BEGIN:VCALENDAR
PRODID:-//CVision, Intl/Event//EN
VERSION:2.0
METHOD:PUBLISH
BEGIN:VEVENT
DTSTART:20251120T170000Z
DTEND:20251120T220000Z
DTSTAMP:20260421T025928Z
UID:2e6b3af7-0e0f-4c2d-a8d6-76a103041bb3
CREATED:20260421T025928Z
X-ALT-DESC;FMTTYPE=text/html:<h2 style="margin-bottom:0;">Custom 2025 Nov 20 Blackcloak Supercar Driving Experience Atlanta</h2><h3>November 20, 2025</h3><p></p><p>If you have not yet requested an invitation to this event, please do so <a href="https://www.cvisionintl.com/events/custom/2025-nov-20-blackcloak-supercar-driving-experience-atlanta/" style="font-weight:bold;">here</a> or email us at <a href="mailto:info@cvisionintl.com">info@cvisionintl.com</a>.</p><p>See more upcoming events on our <a href="https://www.cvisionintl.com/events/">events page</a></p><p>C-Vision Team<br />“Your Vision Is Our Mission”</p>
DESCRIPTION:Custom 2025 Nov 20 Blackcloak Supercar Driving Experience AtlantaNovember 20, 2025If you have not yet requested an invitation to this event, please do so here (https://www.cvisionintl.com/events/custom/2025-nov-20-blackcloak-supercar-driving-experience-atlanta/) or email us at info@cvisionintl.com (mailto:info@cvisionintl.com).See more upcoming events on our events page (https://www.cvisionintl.com/events/)C-Vision Team“Your Vision Is Our Mission”
LAST-MODIFIED:20260421T025928Z
LOCATION:Porsche Experience Center -
SEQUENCE:0
STATUS:CONFIRMED
SUMMARY:Custom 2025 Nov 20 Blackcloak Supercar Driving Experience Atlanta
TRANSP:OPAQUE
END:VEVENT
END:VCALENDAR
