BEGIN:VCALENDAR
PRODID:-//CVision, Intl/Event//EN
VERSION:2.0
METHOD:PUBLISH
BEGIN:VEVENT
DTSTART:20221130T200000Z
DTEND:20221130T211500Z
DTSTAMP:20260421T194638Z
UID:5cd11537-6068-47a7-88f5-fd499620f767
CREATED:20260421T194638Z
X-ALT-DESC;FMTTYPE=text/html:<h2 style="margin-bottom:0;">Council 2022 Nov 30 Zscaler Virtual Council</h2><h3>November 30, 2022</h3><p></p><p>If you have not yet requested an invitation to this event, please do so <a href="https://www.cvisionintl.com/events/council/2022-nov-30-zscaler-virtual-council/" style="font-weight:bold;">here</a> or email us at <a href="mailto:info@cvisionintl.com">info@cvisionintl.com</a>.</p><p>See more upcoming events on our <a href="https://www.cvisionintl.com/events/">events page</a></p><p>C-Vision Team<br />“Your Vision Is Our Mission”</p>
DESCRIPTION:Council 2022 Nov 30 Zscaler Virtual CouncilNovember 30, 2022If you have not yet requested an invitation to this event, please do so here (https://www.cvisionintl.com/events/council/2022-nov-30-zscaler-virtual-council/) or email us at info@cvisionintl.com (mailto:info@cvisionintl.com).See more upcoming events on our events page (https://www.cvisionintl.com/events/)C-Vision Team“Your Vision Is Our Mission”
LAST-MODIFIED:20260421T194638Z
LOCATION:<p>https://us06web.zoom.us/j/82946768615?pwd=UjM4UVA4ajI5dzFEMzFZQ0U0U1dQUT09</p>
SEQUENCE:0
STATUS:CONFIRMED
SUMMARY:Council 2022 Nov 30 Zscaler Virtual Council
TRANSP:OPAQUE
END:VEVENT
END:VCALENDAR
