BEGIN:VCALENDAR
PRODID:-//CVision, Intl/Event//EN
VERSION:2.0
METHOD:PUBLISH
BEGIN:VEVENT
DTSTART:20260416T160000Z
DTEND:20260416T193000Z
DTSTAMP:20260419T183323Z
UID:c5095a42-c25f-4f62-b9a1-f4dac8a96288
CREATED:20260419T183323Z
X-ALT-DESC;FMTTYPE=text/html:<h2 style="margin-bottom:0;">Dinner 2026 Apr 16 Wiz AWS Dinner Amsterdam</h2><h3>April 16, 2026</h3><p></p><p>If you have not yet requested an invitation to this event, please do so <a href="https://www.cvisionintl.com/events/dinner/2026-apr-16-wiz-aws-dinner-amsterdam/" style="font-weight:bold;">here</a> or email us at <a href="mailto:info@cvisionintl.com">info@cvisionintl.com</a>.</p><p>See more upcoming events on our <a href="https://www.cvisionintl.com/events/">events page</a></p><p>C-Vision Team<br />“Your Vision Is Our Mission”</p>
DESCRIPTION:Dinner 2026 Apr 16 Wiz AWS Dinner AmsterdamApril 16, 2026If you have not yet requested an invitation to this event, please do so here (https://www.cvisionintl.com/events/dinner/2026-apr-16-wiz-aws-dinner-amsterdam/) or email us at info@cvisionintl.com (mailto:info@cvisionintl.com).See more upcoming events on our events page (https://www.cvisionintl.com/events/)C-Vision Team“Your Vision Is Our Mission”
LAST-MODIFIED:20260419T183323Z
LOCATION:Restaurant Vermeer -
SEQUENCE:0
STATUS:CONFIRMED
SUMMARY:Dinner 2026 Apr 16 Wiz AWS Dinner Amsterdam
TRANSP:OPAQUE
END:VEVENT
END:VCALENDAR
