BEGIN:VCALENDAR
PRODID:-//CVision, Intl/Event//EN
VERSION:2.0
METHOD:PUBLISH
BEGIN:VEVENT
DTSTART:20260806T000000Z
DTEND:20260806T040000Z
DTSTAMP:20260423T042631Z
UID:e6ccc0c5-484f-42b9-a98f-988152995a60
CREATED:20260423T042631Z
X-ALT-DESC;FMTTYPE=text/html:<h2 style="margin-bottom:0;">Cocktail Reception 2026 Aug 5 Black Hat Cocktail Reception</h2><h3>August 5, 2026</h3><p></p><p>If you have not yet requested an invitation to this event, please do so <a href="https://www.cvisionintl.com/events/cocktail-reception/2026-aug-5-black-hat-cocktail-reception/" style="font-weight:bold;">here</a> or email us at <a href="mailto:info@cvisionintl.com">info@cvisionintl.com</a>.</p><p>See more upcoming events on our <a href="https://www.cvisionintl.com/events/">events page</a></p><p>C-Vision Team<br />“Your Vision Is Our Mission”</p>
DESCRIPTION:Cocktail Reception 2026 Aug 5 Black Hat Cocktail ReceptionAugust 5, 2026If you have not yet requested an invitation to this event, please do so here (https://www.cvisionintl.com/events/cocktail-reception/2026-aug-5-black-hat-cocktail-reception/) or email us at info@cvisionintl.com (mailto:info@cvisionintl.com).See more upcoming events on our events page (https://www.cvisionintl.com/events/)C-Vision Team“Your Vision Is Our Mission”
LAST-MODIFIED:20260423T042631Z
LOCATION:<p>Hakkasan Nightclub -</p>
SEQUENCE:0
STATUS:CONFIRMED
SUMMARY:Cocktail Reception 2026 Aug 5 Black Hat Cocktail Reception
TRANSP:OPAQUE
END:VEVENT
END:VCALENDAR
