BEGIN:VCALENDAR
PRODID:-//CVision, Intl/Event//EN
VERSION:2.0
METHOD:PUBLISH
BEGIN:VEVENT
DTSTART:20251017T140000Z
DTEND:20251018T010000Z
DTSTAMP:20260420T141616Z
UID:a152b88d-4804-4b81-9e04-b410b3614efa
CREATED:20260420T141616Z
X-ALT-DESC;FMTTYPE=text/html:<h2 style="margin-bottom:0;">Custom 2025 Oct 17 IBM AWS F1 Roundtable Austin</h2><h3>October 17, 2025</h3><p></p><p>If you have not yet requested an invitation to this event, please do so <a href="https://www.cvisionintl.com/events/custom/2025-oct-17-ibm-aws-f1-roundtable-austin/" style="font-weight:bold;">here</a> or email us at <a href="mailto:info@cvisionintl.com">info@cvisionintl.com</a>.</p><p>See more upcoming events on our <a href="https://www.cvisionintl.com/events/">events page</a></p><p>C-Vision Team<br />“Your Vision Is Our Mission”</p>
DESCRIPTION:Custom 2025 Oct 17 IBM AWS F1 Roundtable AustinOctober 17, 2025If you have not yet requested an invitation to this event, please do so here (https://www.cvisionintl.com/events/custom/2025-oct-17-ibm-aws-f1-roundtable-austin/) or email us at info@cvisionintl.com (mailto:info@cvisionintl.com).See more upcoming events on our events page (https://www.cvisionintl.com/events/)C-Vision Team“Your Vision Is Our Mission”
LAST-MODIFIED:20260420T141616Z
LOCATION:Austin Proper Hotel -
SEQUENCE:0
STATUS:CONFIRMED
SUMMARY:Custom 2025 Oct 17 IBM AWS F1 Roundtable Austin
TRANSP:OPAQUE
END:VEVENT
END:VCALENDAR
