BEGIN:VCALENDAR
PRODID:-//CVision, Intl/Event//EN
VERSION:2.0
METHOD:PUBLISH
BEGIN:VEVENT
DTSTART:20251118T223000Z
DTEND:20251119T020000Z
DTSTAMP:20260421T012312Z
UID:c68acc9f-e854-4f9e-a3c0-7c962bc513e6
CREATED:20260421T012312Z
X-ALT-DESC;FMTTYPE=text/html:<h2 style="margin-bottom:0;">Dinner 2025 Nov 18 Loka AWS Dinner Toronto</h2><h3>November 18, 2025</h3><p></p><p>If you have not yet requested an invitation to this event, please do so <a href="https://www.cvisionintl.com/events/dinner/2025-nov-18-loka-aws-dinner-toronto/" style="font-weight:bold;">here</a> or email us at <a href="mailto:info@cvisionintl.com">info@cvisionintl.com</a>.</p><p>See more upcoming events on our <a href="https://www.cvisionintl.com/events/">events page</a></p><p>C-Vision Team<br />“Your Vision Is Our Mission”</p>
DESCRIPTION:Dinner 2025 Nov 18 Loka AWS Dinner TorontoNovember 18, 2025If you have not yet requested an invitation to this event, please do so here (https://www.cvisionintl.com/events/dinner/2025-nov-18-loka-aws-dinner-toronto/) or email us at info@cvisionintl.com (mailto:info@cvisionintl.com).See more upcoming events on our events page (https://www.cvisionintl.com/events/)C-Vision Team“Your Vision Is Our Mission”
LAST-MODIFIED:20260421T012312Z
LOCATION:Venue -
SEQUENCE:0
STATUS:CONFIRMED
SUMMARY:Dinner 2025 Nov 18 Loka AWS Dinner Toronto
TRANSP:OPAQUE
END:VEVENT
END:VCALENDAR
