BEGIN:VCALENDAR
PRODID:-//CVision, Intl/Event//EN
VERSION:2.0
METHOD:PUBLISH
BEGIN:VEVENT
DTSTART:20260128T223000Z
DTEND:20260129T020000Z
DTSTAMP:20260421T152431Z
UID:df996708-c3a0-4bd5-89b0-b32fb2783e46
CREATED:20260421T152431Z
X-ALT-DESC;FMTTYPE=text/html:<h2 style="margin-bottom:0;">Dinner 2026 Jan 28 Snowplow AWS Dinner NYC</h2><h3>January 28, 2026</h3><p></p><p>If you have not yet requested an invitation to this event, please do so <a href="https://www.cvisionintl.com/events/dinner/2026-jan-28-snowplow-aws-dinner-nyc/" style="font-weight:bold;">here</a> or email us at <a href="mailto:info@cvisionintl.com">info@cvisionintl.com</a>.</p><p>See more upcoming events on our <a href="https://www.cvisionintl.com/events/">events page</a></p><p>C-Vision Team<br />“Your Vision Is Our Mission”</p>
DESCRIPTION:Dinner 2026 Jan 28 Snowplow AWS Dinner NYCJanuary 28, 2026If you have not yet requested an invitation to this event, please do so here (https://www.cvisionintl.com/events/dinner/2026-jan-28-snowplow-aws-dinner-nyc/) or email us at info@cvisionintl.com (mailto:info@cvisionintl.com).See more upcoming events on our events page (https://www.cvisionintl.com/events/)C-Vision Team“Your Vision Is Our Mission”
LAST-MODIFIED:20260421T152431Z
LOCATION:Manuela -
SEQUENCE:0
STATUS:CONFIRMED
SUMMARY:Dinner 2026 Jan 28 Snowplow AWS Dinner NYC
TRANSP:OPAQUE
END:VEVENT
END:VCALENDAR
