BEGIN:VCALENDAR
PRODID:-//CVision, Intl/Event//EN
VERSION:2.0
METHOD:PUBLISH
BEGIN:VEVENT
DTSTART:20251110T223000Z
DTEND:20251111T020000Z
DTSTAMP:20260421T153236Z
UID:92db7241-2379-402d-a349-d8a16b0bf9c1
CREATED:20260421T153236Z
X-ALT-DESC;FMTTYPE=text/html:<h2 style="margin-bottom:0;">Dinner 2025 Nov 10 AWS Megazone Dinner Detroit</h2><h3>November 10, 2025</h3><p></p><p>If you have not yet requested an invitation to this event, please do so <a href="https://www.cvisionintl.com/events/dinner/2025-nov-10-aws-megazone-dinner-detroit/" style="font-weight:bold;">here</a> or email us at <a href="mailto:info@cvisionintl.com">info@cvisionintl.com</a>.</p><p>See more upcoming events on our <a href="https://www.cvisionintl.com/events/">events page</a></p><p>C-Vision Team<br />“Your Vision Is Our Mission”</p>
DESCRIPTION:Dinner 2025 Nov 10 AWS Megazone Dinner DetroitNovember 10, 2025If you have not yet requested an invitation to this event, please do so here (https://www.cvisionintl.com/events/dinner/2025-nov-10-aws-megazone-dinner-detroit/) or email us at info@cvisionintl.com (mailto:info@cvisionintl.com).See more upcoming events on our events page (https://www.cvisionintl.com/events/)C-Vision Team“Your Vision Is Our Mission”
LAST-MODIFIED:20260421T153236Z
LOCATION:<p>Prime + Proper -</p>
SEQUENCE:0
STATUS:CONFIRMED
SUMMARY:Dinner 2025 Nov 10 AWS Megazone Dinner Detroit
TRANSP:OPAQUE
END:VEVENT
END:VCALENDAR
