BEGIN:VCALENDAR
PRODID:-//CVision, Intl/Event//EN
VERSION:2.0
METHOD:PUBLISH
BEGIN:VEVENT
DTSTART:20260506T160000Z
DTEND:20260506T193000Z
DTSTAMP:20260426T002739Z
UID:38a417fd-db77-4206-95a6-8c7879e551fd
CREATED:20260426T002739Z
X-ALT-DESC;FMTTYPE=text/html:<h2 style="margin-bottom:0;">Dinner 2026 May 6 Apps Associates AWS Dinner Munich</h2><h3>May 6, 2026</h3><p></p><p>If you have not yet requested an invitation to this event, please do so <a href="https://www.cvisionintl.com/events/dinner/2026-may-6-apps-associates-aws-dinner-munich/" style="font-weight:bold;">here</a> or email us at <a href="mailto:info@cvisionintl.com">info@cvisionintl.com</a>.</p><p>See more upcoming events on our <a href="https://www.cvisionintl.com/events/">events page</a></p><p>C-Vision Team<br />“Your Vision Is Our Mission”</p>
DESCRIPTION:Dinner 2026 May 6 Apps Associates AWS Dinner MunichMay 6, 2026If you have not yet requested an invitation to this event, please do so here (https://www.cvisionintl.com/events/dinner/2026-may-6-apps-associates-aws-dinner-munich/) or email us at info@cvisionintl.com (mailto:info@cvisionintl.com).See more upcoming events on our events page (https://www.cvisionintl.com/events/)C-Vision Team“Your Vision Is Our Mission”
LAST-MODIFIED:20260426T002739Z
LOCATION:Hotel Bayerischer Hof -
SEQUENCE:0
STATUS:CONFIRMED
SUMMARY:Dinner 2026 May 6 Apps Associates AWS Dinner Munich
TRANSP:OPAQUE
END:VEVENT
END:VCALENDAR
