BEGIN:VCALENDAR
PRODID:-//CVision, Intl/Event//EN
VERSION:2.0
METHOD:PUBLISH
BEGIN:VEVENT
DTSTART:20261105T133000Z
DTEND:20261105T230000Z
DTSTAMP:20260420T183218Z
UID:e587ce02-d45d-4d38-9c79-aefedf9c8c25
CREATED:20260420T183218Z
X-ALT-DESC;FMTTYPE=text/html:<h2 style="margin-bottom:0;">Summit 2026 Nov 5 National Summit NYC</h2><h3>November 5, 2026</h3><p></p><p>If you have not yet requested an invitation to this event, please do so <a href="https://www.cvisionintl.com/events/summit/2026-nov-5-national-summit-nyc/" style="font-weight:bold;">here</a> or email us at <a href="mailto:info@cvisionintl.com">info@cvisionintl.com</a>.</p><p>See more upcoming events on our <a href="https://www.cvisionintl.com/events/">events page</a></p><p>C-Vision Team<br />“Your Vision Is Our Mission”</p>
DESCRIPTION:Summit 2026 Nov 5 National Summit NYCNovember 5, 2026If you have not yet requested an invitation to this event, please do so here (https://www.cvisionintl.com/events/summit/2026-nov-5-national-summit-nyc/) or email us at info@cvisionintl.com (mailto:info@cvisionintl.com).See more upcoming events on our events page (https://www.cvisionintl.com/events/)C-Vision Team“Your Vision Is Our Mission”
LAST-MODIFIED:20260420T183218Z
LOCATION:Venue -
SEQUENCE:0
STATUS:CONFIRMED
SUMMARY:Summit 2026 Nov 5 National Summit NYC
TRANSP:OPAQUE
END:VEVENT
END:VCALENDAR
