BEGIN:VCALENDAR
PRODID:-//CVision, Intl/Event//EN
VERSION:2.0
METHOD:PUBLISH
BEGIN:VEVENT
DTSTART:20260318T153000Z
DTEND:20260319T003000Z
DTSTAMP:20260421T172614Z
UID:6349598b-7fff-4924-b616-800cae0c5fcf
CREATED:20260421T172614Z
X-ALT-DESC;FMTTYPE=text/html:<h2 style="margin-bottom:0;">Think Tank 2026 Mar 18 CIO CISO TT San Francisco</h2><h3>March 18, 2026</h3><p></p><p>If you have not yet requested an invitation to this event, please do so <a href="https://www.cvisionintl.com/events/think-tank/2026-mar-18-cio-ciso-tt-san-francisco/" style="font-weight:bold;">here</a> or email us at <a href="mailto:info@cvisionintl.com">info@cvisionintl.com</a>.</p><p>See more upcoming events on our <a href="https://www.cvisionintl.com/events/">events page</a></p><p>C-Vision Team<br />“Your Vision Is Our Mission”</p>
DESCRIPTION:Think Tank 2026 Mar 18 CIO CISO TT San FranciscoMarch 18, 2026If you have not yet requested an invitation to this event, please do so here (https://www.cvisionintl.com/events/think-tank/2026-mar-18-cio-ciso-tt-san-francisco/) or email us at info@cvisionintl.com (mailto:info@cvisionintl.com).See more upcoming events on our events page (https://www.cvisionintl.com/events/)C-Vision Team“Your Vision Is Our Mission”
LAST-MODIFIED:20260421T172614Z
LOCATION:The Marker -
SEQUENCE:0
STATUS:CONFIRMED
SUMMARY:Think Tank 2026 Mar 18 CIO CISO TT San Francisco
TRANSP:OPAQUE
END:VEVENT
END:VCALENDAR
