BEGIN:VCALENDAR
PRODID:-//CVision, Intl/Event//EN
VERSION:2.0
METHOD:PUBLISH
BEGIN:VEVENT
DTSTART:20260625T160000Z
DTEND:20260626T013000Z
DTSTAMP:20260425T033330Z
UID:f61274f0-89e7-4d40-b34f-a0737642fa55
CREATED:20260425T033330Z
X-ALT-DESC;FMTTYPE=text/html:<h2 style="margin-bottom:0;">Symposium 2026 Jun 25 Oracle AWS Symposium Boston</h2><h3>June 25, 2026</h3><p></p><p>If you have not yet requested an invitation to this event, please do so <a href="https://www.cvisionintl.com/events/symposium/2026-jun-25-oracle-aws-symposium-boston/" style="font-weight:bold;">here</a> or email us at <a href="mailto:info@cvisionintl.com">info@cvisionintl.com</a>.</p><p>See more upcoming events on our <a href="https://www.cvisionintl.com/events/">events page</a></p><p>C-Vision Team<br />“Your Vision Is Our Mission”</p>
DESCRIPTION:Symposium 2026 Jun 25 Oracle AWS Symposium BostonJune 25, 2026If you have not yet requested an invitation to this event, please do so here (https://www.cvisionintl.com/events/symposium/2026-jun-25-oracle-aws-symposium-boston/) or email us at info@cvisionintl.com (mailto:info@cvisionintl.com).See more upcoming events on our events page (https://www.cvisionintl.com/events/)C-Vision Team“Your Vision Is Our Mission”
LAST-MODIFIED:20260425T033330Z
LOCATION:<p>Venue -</p>
SEQUENCE:0
STATUS:CONFIRMED
SUMMARY:Symposium 2026 Jun 25 Oracle AWS Symposium Boston
TRANSP:OPAQUE
END:VEVENT
END:VCALENDAR
