BEGIN:VCALENDAR
PRODID:-//CVision, Intl/Event//EN
VERSION:2.0
METHOD:PUBLISH
BEGIN:VEVENT
DTSTART:20251029T200000Z
DTEND:20251029T230000Z
DTSTAMP:20260420T205216Z
UID:0cb8e4ff-738a-4353-98fd-26064bb239cb
CREATED:20260420T205216Z
X-ALT-DESC;FMTTYPE=text/html:<h2 style="margin-bottom:0;">Custom 2025 Oct 29 Anaplan AWS Virtual Event</h2><h3>October 29, 2025</h3><p></p><p>If you have not yet requested an invitation to this event, please do so <a href="https://www.cvisionintl.com/events/custom/2025-oct-29-anaplan-aws-virtual-event/" style="font-weight:bold;">here</a> or email us at <a href="mailto:info@cvisionintl.com">info@cvisionintl.com</a>.</p><p>See more upcoming events on our <a href="https://www.cvisionintl.com/events/">events page</a></p><p>C-Vision Team<br />“Your Vision Is Our Mission”</p>
DESCRIPTION:Custom 2025 Oct 29 Anaplan AWS Virtual EventOctober 29, 2025If you have not yet requested an invitation to this event, please do so here (https://www.cvisionintl.com/events/custom/2025-oct-29-anaplan-aws-virtual-event/) or email us at info@cvisionintl.com (mailto:info@cvisionintl.com).See more upcoming events on our events page (https://www.cvisionintl.com/events/)C-Vision Team“Your Vision Is Our Mission”
LAST-MODIFIED:20260420T205216Z
LOCATION:<p>https://us06web.zoom.us/meetings/81480526901/invitations?signature=HbLU9zM3KovGv5oFmuSKb2pCyTaUnH1ywCugMSq0CHI</p>
SEQUENCE:0
STATUS:CONFIRMED
SUMMARY:Custom 2025 Oct 29 Anaplan AWS Virtual Event
TRANSP:OPAQUE
END:VEVENT
END:VCALENDAR
