BEGIN:VCALENDAR
PRODID:-//CVision, Intl/Event//EN
VERSION:2.0
METHOD:PUBLISH
BEGIN:VEVENT
DTSTART:20260409T133000Z
DTEND:20260409T223000Z
DTSTAMP:20260421T172614Z
UID:4dd211cb-0595-48b7-b3b8-7d792d5017b3
CREATED:20260421T172614Z
X-ALT-DESC;FMTTYPE=text/html:<h2 style="margin-bottom:0;">Think Tank 2026 Apr 9 CIO CISO TT Chicago</h2><h3>April 9, 2026</h3><p></p><p>If you have not yet requested an invitation to this event, please do so <a href="https://www.cvisionintl.com/events/think-tank/2026-apr-9-cio-ciso-tt-chicago/" style="font-weight:bold;">here</a> or email us at <a href="mailto:info@cvisionintl.com">info@cvisionintl.com</a>.</p><p>See more upcoming events on our <a href="https://www.cvisionintl.com/events/">events page</a></p><p>C-Vision Team<br />“Your Vision Is Our Mission”</p>
DESCRIPTION:Think Tank 2026 Apr 9 CIO CISO TT ChicagoApril 9, 2026If you have not yet requested an invitation to this event, please do so here (https://www.cvisionintl.com/events/think-tank/2026-apr-9-cio-ciso-tt-chicago/) or email us at info@cvisionintl.com (mailto:info@cvisionintl.com).See more upcoming events on our events page (https://www.cvisionintl.com/events/)C-Vision Team“Your Vision Is Our Mission”
LAST-MODIFIED:20260421T172614Z
LOCATION:Fairmont Chicago, Millennium Park -
SEQUENCE:0
STATUS:CONFIRMED
SUMMARY:Think Tank 2026 Apr 9 CIO CISO TT Chicago
TRANSP:OPAQUE
END:VEVENT
END:VCALENDAR
