BEGIN:VCALENDAR
PRODID:-//CVision, Intl/Event//EN
VERSION:2.0
METHOD:PUBLISH
BEGIN:VEVENT
DTSTART:20231101T163000Z
DTEND:20231101T193000Z
DTSTAMP:20260420T195516Z
UID:8560fcb7-3f5f-4b0f-8265-93e5f01f9e2a
CREATED:20260420T195516Z
X-ALT-DESC;FMTTYPE=text/html:<h2 style="margin-bottom:0;">Luncheon 2023 Nov 1 Ni-X AWS Dallas Luncheon</h2><h3>November 1, 2023</h3><p></p><p>If you have not yet requested an invitation to this event, please do so <a href="https://www.cvisionintl.com/events/luncheon/2023-nov-1-ni-x-aws-dallas-luncheon/" style="font-weight:bold;">here</a> or email us at <a href="mailto:info@cvisionintl.com">info@cvisionintl.com</a>.</p><p>See more upcoming events on our <a href="https://www.cvisionintl.com/events/">events page</a></p><p>C-Vision Team<br />“Your Vision Is Our Mission”</p>
DESCRIPTION:Luncheon 2023 Nov 1 Ni-X AWS Dallas LuncheonNovember 1, 2023If you have not yet requested an invitation to this event, please do so here (https://www.cvisionintl.com/events/luncheon/2023-nov-1-ni-x-aws-dallas-luncheon/) or email us at info@cvisionintl.com (mailto:info@cvisionintl.com).See more upcoming events on our events page (https://www.cvisionintl.com/events/)C-Vision Team“Your Vision Is Our Mission”
LAST-MODIFIED:20260420T195516Z
LOCATION:Del Frisco's Double Eagle Steakhouse -
SEQUENCE:0
STATUS:CONFIRMED
SUMMARY:Luncheon 2023 Nov 1 Ni-X AWS Dallas Luncheon
TRANSP:OPAQUE
END:VEVENT
END:VCALENDAR
