BEGIN:VCALENDAR
PRODID:-//CVision, Intl/Event//EN
VERSION:2.0
METHOD:PUBLISH
BEGIN:VEVENT
DTSTART:20250917T003000Z
DTEND:20250917T040000Z
DTSTAMP:20260420T215814Z
UID:c3c93fbb-a9ce-4394-b653-27533993fdfd
CREATED:20260420T215814Z
X-ALT-DESC;FMTTYPE=text/html:<h2 style="margin-bottom:0;">Dinner 2025 Sep 16 Slalom AWS Dinner San Diego</h2><h3>September 16, 2025</h3><p></p><p>If you have not yet requested an invitation to this event, please do so <a href="https://www.cvisionintl.com/events/dinner/2025-sep-16-slalom-aws-dinner-san-diego/" style="font-weight:bold;">here</a> or email us at <a href="mailto:info@cvisionintl.com">info@cvisionintl.com</a>.</p><p>See more upcoming events on our <a href="https://www.cvisionintl.com/events/">events page</a></p><p>C-Vision Team<br />“Your Vision Is Our Mission”</p>
DESCRIPTION:Dinner 2025 Sep 16 Slalom AWS Dinner San DiegoSeptember 16, 2025If you have not yet requested an invitation to this event, please do so here (https://www.cvisionintl.com/events/dinner/2025-sep-16-slalom-aws-dinner-san-diego/) or email us at info@cvisionintl.com (mailto:info@cvisionintl.com).See more upcoming events on our events page (https://www.cvisionintl.com/events/)C-Vision Team“Your Vision Is Our Mission”
LAST-MODIFIED:20260420T215814Z
LOCATION:Huntress -
SEQUENCE:0
STATUS:CONFIRMED
SUMMARY:Dinner 2025 Sep 16 Slalom AWS Dinner San Diego
TRANSP:OPAQUE
END:VEVENT
END:VCALENDAR
