BEGIN:VCALENDAR
PRODID:-//CVision, Intl/Event//EN
VERSION:2.0
METHOD:PUBLISH
BEGIN:VEVENT
DTSTART:20260428T160000Z
DTEND:20260428T193000Z
DTSTAMP:20260420T205011Z
UID:24e12def-ff96-4148-a760-26bc63f5a71f
CREATED:20260420T205011Z
X-ALT-DESC;FMTTYPE=text/html:<h2 style="margin-bottom:0;">Dinner 2026 Apr 28 Wiz AWS Dinner Stuttgart</h2><h3>April 28, 2026</h3><p></p><p>If you have not yet requested an invitation to this event, please do so <a href="https://www.cvisionintl.com/events/dinner/2026-apr-28-wiz-aws-dinner-stuttgart/" style="font-weight:bold;">here</a> or email us at <a href="mailto:info@cvisionintl.com">info@cvisionintl.com</a>.</p><p>See more upcoming events on our <a href="https://www.cvisionintl.com/events/">events page</a></p><p>C-Vision Team<br />“Your Vision Is Our Mission”</p>
DESCRIPTION:Dinner 2026 Apr 28 Wiz AWS Dinner StuttgartApril 28, 2026If you have not yet requested an invitation to this event, please do so here (https://www.cvisionintl.com/events/dinner/2026-apr-28-wiz-aws-dinner-stuttgart/) or email us at info@cvisionintl.com (mailto:info@cvisionintl.com).See more upcoming events on our events page (https://www.cvisionintl.com/events/)C-Vision Team“Your Vision Is Our Mission”
LAST-MODIFIED:20260420T205011Z
LOCATION:SCHWEIZERS RESTAURANT -
SEQUENCE:0
STATUS:CONFIRMED
SUMMARY:Dinner 2026 Apr 28 Wiz AWS Dinner Stuttgart
TRANSP:OPAQUE
END:VEVENT
END:VCALENDAR
