BEGIN:VCALENDAR
PRODID:-//CVision, Intl/Event//EN
VERSION:2.0
METHOD:PUBLISH
BEGIN:VEVENT
DTSTART:20251120T180000Z
DTEND:20251120T213000Z
DTSTAMP:20260421T012204Z
UID:42f40571-7665-43a8-b6ba-f2234af2e9ef
CREATED:20260421T012204Z
X-ALT-DESC;FMTTYPE=text/html:<h2 style="margin-bottom:0;">Dinner 2025 Nov 20 Phrase AWS Dinner London</h2><h3>November 20, 2025</h3><p></p><p>If you have not yet requested an invitation to this event, please do so <a href="https://www.cvisionintl.com/events/dinner/2025-nov-20-phrase-aws-dinner-london/" style="font-weight:bold;">here</a> or email us at <a href="mailto:info@cvisionintl.com">info@cvisionintl.com</a>.</p><p>See more upcoming events on our <a href="https://www.cvisionintl.com/events/">events page</a></p><p>C-Vision Team<br />“Your Vision Is Our Mission”</p>
DESCRIPTION:Dinner 2025 Nov 20 Phrase AWS Dinner LondonNovember 20, 2025If you have not yet requested an invitation to this event, please do so here (https://www.cvisionintl.com/events/dinner/2025-nov-20-phrase-aws-dinner-london/) or email us at info@cvisionintl.com (mailto:info@cvisionintl.com).See more upcoming events on our events page (https://www.cvisionintl.com/events/)C-Vision Team“Your Vision Is Our Mission”
LAST-MODIFIED:20260421T012204Z
LOCATION:The Twenty Two -
SEQUENCE:0
STATUS:CONFIRMED
SUMMARY:Dinner 2025 Nov 20 Phrase AWS Dinner London
TRANSP:OPAQUE
END:VEVENT
END:VCALENDAR
