BEGIN:VCALENDAR
PRODID:-//CVision, Intl/Event//EN
VERSION:2.0
METHOD:PUBLISH
BEGIN:VEVENT
DTSTART:20251119T233000Z
DTEND:20251120T030000Z
DTSTAMP:20260420T195813Z
UID:12f872fd-f056-4e44-bf09-2b5f41e91f51
CREATED:20260420T195813Z
X-ALT-DESC;FMTTYPE=text/html:<h2 style="margin-bottom:0;">Dinner 2025 Nov 19 TEKSystems AWS Dinner Calgary</h2><h3>November 19, 2025</h3><p></p><p>If you have not yet requested an invitation to this event, please do so <a href="https://www.cvisionintl.com/events/dinner/2025-nov-19-teksystems-aws-dinner-calgary/" style="font-weight:bold;">here</a> or email us at <a href="mailto:info@cvisionintl.com">info@cvisionintl.com</a>.</p><p>See more upcoming events on our <a href="https://www.cvisionintl.com/events/">events page</a></p><p>C-Vision Team<br />“Your Vision Is Our Mission”</p>
DESCRIPTION:Dinner 2025 Nov 19 TEKSystems AWS Dinner CalgaryNovember 19, 2025If you have not yet requested an invitation to this event, please do so here (https://www.cvisionintl.com/events/dinner/2025-nov-19-teksystems-aws-dinner-calgary/) or email us at info@cvisionintl.com (mailto:info@cvisionintl.com).See more upcoming events on our events page (https://www.cvisionintl.com/events/)C-Vision Team“Your Vision Is Our Mission”
LAST-MODIFIED:20260420T195813Z
LOCATION:<p>Rouge -</p>
SEQUENCE:0
STATUS:CONFIRMED
SUMMARY:Dinner 2025 Nov 19 TEKSystems AWS Dinner Calgary
TRANSP:OPAQUE
END:VEVENT
END:VCALENDAR
