BEGIN:VCALENDAR
PRODID:-//CVision, Intl/Event//EN
VERSION:2.0
METHOD:PUBLISH
BEGIN:VEVENT
DTSTART:20250924T223000Z
DTEND:20250925T020000Z
DTSTAMP:20260420T183842Z
UID:b95e75d0-e574-41b3-877a-6cede6fdccdd
CREATED:20260420T183842Z
X-ALT-DESC;FMTTYPE=text/html:<h2 style="margin-bottom:0;">Dinner 2025 Sep 24 Softchoice AWS Dinner Montreal</h2><h3>September 24, 2025</h3><p></p><p>If you have not yet requested an invitation to this event, please do so <a href="https://www.cvisionintl.com/events/dinner/2025-sep-24-softchoice-aws-dinner-montreal/" style="font-weight:bold;">here</a> or email us at <a href="mailto:info@cvisionintl.com">info@cvisionintl.com</a>.</p><p>See more upcoming events on our <a href="https://www.cvisionintl.com/events/">events page</a></p><p>C-Vision Team<br />“Your Vision Is Our Mission”</p>
DESCRIPTION:Dinner 2025 Sep 24 Softchoice AWS Dinner MontrealSeptember 24, 2025If you have not yet requested an invitation to this event, please do so here (https://www.cvisionintl.com/events/dinner/2025-sep-24-softchoice-aws-dinner-montreal/) or email us at info@cvisionintl.com (mailto:info@cvisionintl.com).See more upcoming events on our events page (https://www.cvisionintl.com/events/)C-Vision Team“Your Vision Is Our Mission”
LAST-MODIFIED:20260420T183842Z
LOCATION:<p>Brasserie Le Pois Penché -</p>
SEQUENCE:0
STATUS:CONFIRMED
SUMMARY:Dinner 2025 Sep 24 Softchoice AWS Dinner Montreal
TRANSP:OPAQUE
END:VEVENT
END:VCALENDAR
