BEGIN:VCALENDAR
PRODID:-//CVision, Intl/Event//EN
VERSION:2.0
METHOD:PUBLISH
BEGIN:VEVENT
DTSTART:20251204T170000Z
DTEND:20251204T203000Z
DTSTAMP:20260420T195215Z
UID:224e543e-4833-4356-a7a5-3cf9f0be4dbf
CREATED:20260420T195215Z
X-ALT-DESC;FMTTYPE=text/html:<h2 style="margin-bottom:0;">Dinner 2025 Dec 4 CyberArk AWS Dinner Zurich (1)</h2><h3>December 4, 2025</h3><p></p><p>If you have not yet requested an invitation to this event, please do so <a href="https://www.cvisionintl.com/events/dinner/2025-dec-4-cyberark-aws-dinner-zurich-1/" style="font-weight:bold;">here</a> or email us at <a href="mailto:info@cvisionintl.com">info@cvisionintl.com</a>.</p><p>See more upcoming events on our <a href="https://www.cvisionintl.com/events/">events page</a></p><p>C-Vision Team<br />“Your Vision Is Our Mission”</p>
DESCRIPTION:Dinner 2025 Dec 4 CyberArk AWS Dinner Zurich (1)December 4, 2025If you have not yet requested an invitation to this event, please do so here (https://www.cvisionintl.com/events/dinner/2025-dec-4-cyberark-aws-dinner-zurich-1/) or email us at info@cvisionintl.com (mailto:info@cvisionintl.com).See more upcoming events on our events page (https://www.cvisionintl.com/events/)C-Vision Team“Your Vision Is Our Mission”
LAST-MODIFIED:20260420T195215Z
LOCATION:Park Hyatt Zurich -
SEQUENCE:0
STATUS:CONFIRMED
SUMMARY:Dinner 2025 Dec 4 CyberArk AWS Dinner Zurich (1)
TRANSP:OPAQUE
END:VEVENT
END:VCALENDAR
