BEGIN:VCALENDAR
PRODID:-//CVision, Intl/Event//EN
VERSION:2.0
METHOD:PUBLISH
BEGIN:VEVENT
DTSTART:20251015T160000Z
DTEND:20251015T193000Z
DTSTAMP:20260419T141239Z
UID:e30ecfe2-f3ea-421f-8a3c-186697b92aee
CREATED:20260419T141239Z
X-ALT-DESC;FMTTYPE=text/html:<h2 style="margin-bottom:0;">Dinner 2025 Oct 15 Apps Associates AWS Dinner Berlin</h2><h3>October 15, 2025</h3><p></p><p>If you have not yet requested an invitation to this event, please do so <a href="https://www.cvisionintl.com/events/dinner/2025-oct-15-apps-associates-aws-dinner-berlin/" style="font-weight:bold;">here</a> or email us at <a href="mailto:info@cvisionintl.com">info@cvisionintl.com</a>.</p><p>See more upcoming events on our <a href="https://www.cvisionintl.com/events/">events page</a></p><p>C-Vision Team<br />“Your Vision Is Our Mission”</p>
DESCRIPTION:Dinner 2025 Oct 15 Apps Associates AWS Dinner BerlinOctober 15, 2025If you have not yet requested an invitation to this event, please do so here (https://www.cvisionintl.com/events/dinner/2025-oct-15-apps-associates-aws-dinner-berlin/) or email us at info@cvisionintl.com (mailto:info@cvisionintl.com).See more upcoming events on our events page (https://www.cvisionintl.com/events/)C-Vision Team“Your Vision Is Our Mission”
LAST-MODIFIED:20260419T141239Z
LOCATION:<p>KINK Bar &amp; Restaurant -</p>
SEQUENCE:0
STATUS:CONFIRMED
SUMMARY:Dinner 2025 Oct 15 Apps Associates AWS Dinner Berlin
TRANSP:OPAQUE
END:VEVENT
END:VCALENDAR
