BEGIN:VCALENDAR
PRODID:-//CVision, Intl/Event//EN
VERSION:2.0
METHOD:PUBLISH
BEGIN:VEVENT
DTSTART:20230222T140000Z
DTEND:20230222T151500Z
DTSTAMP:20260422T015448Z
UID:c840115b-cacf-464e-bb8b-9486c518340c
CREATED:20260422T015448Z
X-ALT-DESC;FMTTYPE=text/html:<h2 style="margin-bottom:0;">Council 2022 Nov Abnormal UK CISO Council</h2><h3>February 22, 2023</h3><p></p><p>If you have not yet requested an invitation to this event, please do so <a href="https://www.cvisionintl.com/events/council/2022-nov-abnormal-uk-ciso-council/" style="font-weight:bold;">here</a> or email us at <a href="mailto:info@cvisionintl.com">info@cvisionintl.com</a>.</p><p>See more upcoming events on our <a href="https://www.cvisionintl.com/events/">events page</a></p><p>C-Vision Team<br />“Your Vision Is Our Mission”</p>
DESCRIPTION:Council 2022 Nov Abnormal UK CISO CouncilFebruary 22, 2023If you have not yet requested an invitation to this event, please do so here (https://www.cvisionintl.com/events/council/2022-nov-abnormal-uk-ciso-council/) or email us at info@cvisionintl.com (mailto:info@cvisionintl.com).See more upcoming events on our events page (https://www.cvisionintl.com/events/)C-Vision Team“Your Vision Is Our Mission”
LAST-MODIFIED:20260422T015448Z
LOCATION:https://us06web.zoom.us/j/82442916614?pwd=VFBlRzQzQXRGaFpkbm5PUW1aWHphdz09
SEQUENCE:0
STATUS:CONFIRMED
SUMMARY:Council 2022 Nov Abnormal UK CISO Council
TRANSP:OPAQUE
END:VEVENT
END:VCALENDAR
