BEGIN:VCALENDAR
PRODID:-//CVision, Intl/Event//EN
VERSION:2.0
METHOD:PUBLISH
BEGIN:VEVENT
DTSTART:20240516T213000Z
DTEND:20240517T010000Z
DTSTAMP:20260425T033626Z
UID:1d4ccead-8539-468c-b718-e0fb6316dd06
CREATED:20260425T033626Z
X-ALT-DESC;FMTTYPE=text/html:<h2 style="margin-bottom:0;">Dinner 2024 May 16 Sygnia CISO Dinner Toronto</h2><h3>May 16, 2024</h3><p></p><p>If you have not yet requested an invitation to this event, please do so <a href="https://www.cvisionintl.com/events/dinner/2024-may-16-sygnia-ciso-dinner-toronto/" style="font-weight:bold;">here</a> or email us at <a href="mailto:info@cvisionintl.com">info@cvisionintl.com</a>.</p><p>See more upcoming events on our <a href="https://www.cvisionintl.com/events/">events page</a></p><p>C-Vision Team<br />“Your Vision Is Our Mission”</p>
DESCRIPTION:Dinner 2024 May 16 Sygnia CISO Dinner TorontoMay 16, 2024If you have not yet requested an invitation to this event, please do so here (https://www.cvisionintl.com/events/dinner/2024-may-16-sygnia-ciso-dinner-toronto/) or email us at info@cvisionintl.com (mailto:info@cvisionintl.com).See more upcoming events on our events page (https://www.cvisionintl.com/events/)C-Vision Team“Your Vision Is Our Mission”
LAST-MODIFIED:20260425T033626Z
LOCATION:<p>Morton's The Steakhouse -</p>
SEQUENCE:0
STATUS:CONFIRMED
SUMMARY:Dinner 2024 May 16 Sygnia CISO Dinner Toronto
TRANSP:OPAQUE
END:VEVENT
END:VCALENDAR
