BEGIN:VCALENDAR
PRODID:-//CVision, Intl/Event//EN
VERSION:2.0
METHOD:PUBLISH
BEGIN:VEVENT
DTSTART:20240926T133000Z
DTEND:20240926T173000Z
DTSTAMP:20260423T200130Z
UID:ff2b5f40-a6b0-43b9-a91f-870ee4c76b0b
CREATED:20260423T200130Z
X-ALT-DESC;FMTTYPE=text/html:<h2 style="margin-bottom:0;">Custom 2024 Sep 26 AWS Treasure Data CMO Event NYC</h2><h3>September 26, 2024</h3><p></p><p>If you have not yet requested an invitation to this event, please do so <a href="https://www.cvisionintl.com/events/custom/2024-sep-26-aws-treasure-data-cmo-event-nyc/" style="font-weight:bold;">here</a> or email us at <a href="mailto:info@cvisionintl.com">info@cvisionintl.com</a>.</p><p>See more upcoming events on our <a href="https://www.cvisionintl.com/events/">events page</a></p><p>C-Vision Team<br />“Your Vision Is Our Mission”</p>
DESCRIPTION:Custom 2024 Sep 26 AWS Treasure Data CMO Event NYCSeptember 26, 2024If you have not yet requested an invitation to this event, please do so here (https://www.cvisionintl.com/events/custom/2024-sep-26-aws-treasure-data-cmo-event-nyc/) or email us at info@cvisionintl.com (mailto:info@cvisionintl.com).See more upcoming events on our events page (https://www.cvisionintl.com/events/)C-Vision Team“Your Vision Is Our Mission”
LAST-MODIFIED:20260423T200130Z
LOCATION:Gansevoort Hotel -
SEQUENCE:0
STATUS:CONFIRMED
SUMMARY:Custom 2024 Sep 26 AWS Treasure Data CMO Event NYC
TRANSP:OPAQUE
END:VEVENT
END:VCALENDAR
