BEGIN:VCALENDAR
PRODID:-//CVision, Intl/Event//EN
VERSION:2.0
METHOD:PUBLISH
BEGIN:VEVENT
DTSTART:20260528T213000Z
DTEND:20260529T010000Z
DTSTAMP:20260420T215620Z
UID:0e78fbb1-a8d1-4785-a9bb-6cd9317a0c6e
CREATED:20260420T215620Z
X-ALT-DESC;FMTTYPE=text/html:<h2 style="margin-bottom:0;">Dinner 2026 May 28 GitLab Dinner Montreal</h2><h3>May 28, 2026</h3><p></p><p>If you have not yet requested an invitation to this event, please do so <a href="https://www.cvisionintl.com/events/dinner/2026-may-28-gitlab-dinner-montreal/" style="font-weight:bold;">here</a> or email us at <a href="mailto:info@cvisionintl.com">info@cvisionintl.com</a>.</p><p>See more upcoming events on our <a href="https://www.cvisionintl.com/events/">events page</a></p><p>C-Vision Team<br />“Your Vision Is Our Mission”</p>
DESCRIPTION:Dinner 2026 May 28 GitLab Dinner MontrealMay 28, 2026If you have not yet requested an invitation to this event, please do so here (https://www.cvisionintl.com/events/dinner/2026-may-28-gitlab-dinner-montreal/) or email us at info@cvisionintl.com (mailto:info@cvisionintl.com).See more upcoming events on our events page (https://www.cvisionintl.com/events/)C-Vision Team“Your Vision Is Our Mission”
LAST-MODIFIED:20260420T215620Z
LOCATION:<p>Venue -</p>
SEQUENCE:0
STATUS:CONFIRMED
SUMMARY:Dinner 2026 May 28 GitLab Dinner Montreal
TRANSP:OPAQUE
END:VEVENT
END:VCALENDAR
