BEGIN:VCALENDAR
PRODID:-//CVision, Intl/Event//EN
VERSION:2.0
METHOD:PUBLISH
BEGIN:VEVENT
DTSTART:20251015T010000Z
DTEND:20251015T033000Z
DTSTAMP:20260420T195215Z
UID:c75ca7b5-806f-49d0-9c74-4a04ba750116
CREATED:20260420T195215Z
X-ALT-DESC;FMTTYPE=text/html:<h2 style="margin-bottom:0;">Cocktail Reception 2025 Oct 14 Informatica Cocktail Reception at ITC Las Vegas</h2><h3>October 14, 2025</h3><p></p><p>If you have not yet requested an invitation to this event, please do so <a href="https://www.cvisionintl.com/events/cocktail-reception/2025-oct-14-informatica-cocktail-reception-at-itc-las-vegas/" style="font-weight:bold;">here</a> or email us at <a href="mailto:info@cvisionintl.com">info@cvisionintl.com</a>.</p><p>See more upcoming events on our <a href="https://www.cvisionintl.com/events/">events page</a></p><p>C-Vision Team<br />“Your Vision Is Our Mission”</p>
DESCRIPTION:Cocktail Reception 2025 Oct 14 Informatica Cocktail Reception at ITC Las VegasOctober 14, 2025If you have not yet requested an invitation to this event, please do so here (https://www.cvisionintl.com/events/cocktail-reception/2025-oct-14-informatica-cocktail-reception-at-itc-las-vegas/) or email us at info@cvisionintl.com (mailto:info@cvisionintl.com).See more upcoming events on our events page (https://www.cvisionintl.com/events/)C-Vision Team“Your Vision Is Our Mission”
LAST-MODIFIED:20260420T195215Z
LOCATION:S Bar -
SEQUENCE:0
STATUS:CONFIRMED
SUMMARY:Cocktail Reception 2025 Oct 14 Informatica Cocktail Reception at ITC Las Vegas
TRANSP:OPAQUE
END:VEVENT
END:VCALENDAR
