BEGIN:VCALENDAR
PRODID:-//CVision, Intl/Event//EN
VERSION:2.0
METHOD:PUBLISH
BEGIN:VEVENT
DTSTART:20260205T013000Z
DTEND:20260205T050000Z
DTSTAMP:20260420T220145Z
UID:2f28d7af-6990-4843-a542-b6e5a363bcb4
CREATED:20260420T220145Z
X-ALT-DESC;FMTTYPE=text/html:<h2 style="margin-bottom:0;">Dinner 2026 Feb 4 AWS Multiverse Dinner San Francisco</h2><h3>February 4, 2026</h3><p></p><p>If you have not yet requested an invitation to this event, please do so <a href="https://www.cvisionintl.com/events/dinner/2026-feb-4-aws-multiverse-dinner-san-francisco/" style="font-weight:bold;">here</a> or email us at <a href="mailto:info@cvisionintl.com">info@cvisionintl.com</a>.</p><p>See more upcoming events on our <a href="https://www.cvisionintl.com/events/">events page</a></p><p>C-Vision Team<br />“Your Vision Is Our Mission”</p>
DESCRIPTION:Dinner 2026 Feb 4 AWS Multiverse Dinner San FranciscoFebruary 4, 2026If you have not yet requested an invitation to this event, please do so here (https://www.cvisionintl.com/events/dinner/2026-feb-4-aws-multiverse-dinner-san-francisco/) or email us at info@cvisionintl.com (mailto:info@cvisionintl.com).See more upcoming events on our events page (https://www.cvisionintl.com/events/)C-Vision Team“Your Vision Is Our Mission”
LAST-MODIFIED:20260420T220145Z
LOCATION:O' by Claude Le Tohic -
SEQUENCE:0
STATUS:CONFIRMED
SUMMARY:Dinner 2026 Feb 4 AWS Multiverse Dinner San Francisco
TRANSP:OPAQUE
END:VEVENT
END:VCALENDAR
