BEGIN:VCALENDAR
PRODID:-//CVision, Intl/Event//EN
VERSION:2.0
METHOD:PUBLISH
BEGIN:VEVENT
DTSTART:20221121T170000Z
DTEND:20221121T203000Z
DTSTAMP:20260420T034126Z
UID:8261314a-6e52-4981-9af8-bb16ab7ff4b2
CREATED:20260420T034126Z
X-ALT-DESC;FMTTYPE=text/html:<h2 style="margin-bottom:0;">Dinner 2022 Nov 21 Illusive CISO Dinner London</h2><h3>November 21, 2022</h3><p></p><p>If you have not yet requested an invitation to this event, please do so <a href="https://www.cvisionintl.com/events/dinner/2022-nov-21-illusive-ciso-dinner-london/" style="font-weight:bold;">here</a> or email us at <a href="mailto:info@cvisionintl.com">info@cvisionintl.com</a>.</p><p>See more upcoming events on our <a href="https://www.cvisionintl.com/events/">events page</a></p><p>C-Vision Team<br />“Your Vision Is Our Mission”</p>
DESCRIPTION:Dinner 2022 Nov 21 Illusive CISO Dinner LondonNovember 21, 2022If you have not yet requested an invitation to this event, please do so here (https://www.cvisionintl.com/events/dinner/2022-nov-21-illusive-ciso-dinner-london/) or email us at info@cvisionintl.com (mailto:info@cvisionintl.com).See more upcoming events on our events page (https://www.cvisionintl.com/events/)C-Vision Team“Your Vision Is Our Mission”
LAST-MODIFIED:20260420T034126Z
LOCATION:<p>The IVY Asia Mayfair</p>
SEQUENCE:0
STATUS:CONFIRMED
SUMMARY:Dinner 2022 Nov 21 Illusive CISO Dinner London
TRANSP:OPAQUE
END:VEVENT
END:VCALENDAR
