BEGIN:VCALENDAR
PRODID:-//CVision, Intl/Event//EN
VERSION:2.0
METHOD:PUBLISH
BEGIN:VEVENT
DTSTART:20251125T170000Z
DTEND:20251125T203000Z
DTSTAMP:20260421T012718Z
UID:4968bd45-d25e-4443-b97f-fc182aa6a441
CREATED:20260421T012718Z
X-ALT-DESC;FMTTYPE=text/html:<h2 style="margin-bottom:0;">Dinner 2025 Nov 25 Automat-it AWS Dinner Berlin</h2><h3>November 25, 2025</h3><p></p><p>If you have not yet requested an invitation to this event, please do so <a href="https://www.cvisionintl.com/events/dinner/2025-nov-25-automat-it-aws-dinner-berlin/" style="font-weight:bold;">here</a> or email us at <a href="mailto:info@cvisionintl.com">info@cvisionintl.com</a>.</p><p>See more upcoming events on our <a href="https://www.cvisionintl.com/events/">events page</a></p><p>C-Vision Team<br />“Your Vision Is Our Mission”</p>
DESCRIPTION:Dinner 2025 Nov 25 Automat-it AWS Dinner BerlinNovember 25, 2025If you have not yet requested an invitation to this event, please do so here (https://www.cvisionintl.com/events/dinner/2025-nov-25-automat-it-aws-dinner-berlin/) or email us at info@cvisionintl.com (mailto:info@cvisionintl.com).See more upcoming events on our events page (https://www.cvisionintl.com/events/)C-Vision Team“Your Vision Is Our Mission”
LAST-MODIFIED:20260421T012718Z
LOCATION:<p>Katz Orange -</p>
SEQUENCE:0
STATUS:CONFIRMED
SUMMARY:Dinner 2025 Nov 25 Automat-it AWS Dinner Berlin
TRANSP:OPAQUE
END:VEVENT
END:VCALENDAR
