BEGIN:VCALENDAR
PRODID:-//CVision, Intl/Event//EN
VERSION:2.0
METHOD:PUBLISH
BEGIN:VEVENT
DTSTART:20231101T220000Z
DTEND:20231101T231500Z
DTSTAMP:20260423T122029Z
UID:e80d17d3-43df-4ea3-a0a4-c5d852bca348
CREATED:20260423T122029Z
X-ALT-DESC;FMTTYPE=text/html:<h2 style="margin-bottom:0;">Council 2023 Nov 1 FireMon CISO Virtual Council</h2><h3>November 1, 2023</h3><p></p><p>If you have not yet requested an invitation to this event, please do so <a href="https://www.cvisionintl.com/events/council/2023-nov-1-firemon-ciso-virtual-council/" style="font-weight:bold;">here</a> or email us at <a href="mailto:info@cvisionintl.com">info@cvisionintl.com</a>.</p><p>See more upcoming events on our <a href="https://www.cvisionintl.com/events/">events page</a></p><p>C-Vision Team<br />“Your Vision Is Our Mission”</p>
DESCRIPTION:Council 2023 Nov 1 FireMon CISO Virtual CouncilNovember 1, 2023If you have not yet requested an invitation to this event, please do so here (https://www.cvisionintl.com/events/council/2023-nov-1-firemon-ciso-virtual-council/) or email us at info@cvisionintl.com (mailto:info@cvisionintl.com).See more upcoming events on our events page (https://www.cvisionintl.com/events/)C-Vision Team“Your Vision Is Our Mission”
LAST-MODIFIED:20260423T122029Z
LOCATION:https://us06web.zoom.us/j/86453046082?pwd=MzwcfaIF2DvSUKWRIEaurj7r4tXbFD.1
SEQUENCE:0
STATUS:CONFIRMED
SUMMARY:Council 2023 Nov 1 FireMon CISO Virtual Council
TRANSP:OPAQUE
END:VEVENT
END:VCALENDAR
