BEGIN:VCALENDAR
PRODID:-//CVision, Intl/Event//EN
VERSION:2.0
METHOD:PUBLISH
BEGIN:VEVENT
DTSTART:20260423T200000Z
DTEND:20260423T211500Z
DTSTAMP:20260422T230232Z
UID:ecace215-9544-495c-bebe-687f459eebea
CREATED:20260422T230232Z
X-ALT-DESC;FMTTYPE=text/html:<h2 style="margin-bottom:0;">Council 2026 Apr 23 Collabera Virtual Council</h2><h3>April 23, 2026</h3><p></p><p>If you have not yet requested an invitation to this event, please do so <a href="https://www.cvisionintl.com/events/council/2026-apr-23-collabera-virtual-council/" style="font-weight:bold;">here</a> or email us at <a href="mailto:info@cvisionintl.com">info@cvisionintl.com</a>.</p><p>See more upcoming events on our <a href="https://www.cvisionintl.com/events/">events page</a></p><p>C-Vision Team<br />“Your Vision Is Our Mission”</p>
DESCRIPTION:Council 2026 Apr 23 Collabera Virtual CouncilApril 23, 2026If you have not yet requested an invitation to this event, please do so here (https://www.cvisionintl.com/events/council/2026-apr-23-collabera-virtual-council/) or email us at info@cvisionintl.com (mailto:info@cvisionintl.com).See more upcoming events on our events page (https://www.cvisionintl.com/events/)C-Vision Team“Your Vision Is Our Mission”
LAST-MODIFIED:20260422T230232Z
LOCATION:https://us06web.zoom.us/j/84514602567?pwd=8MZ5XPNhZvH7xM1oIQuR95JbcswhXT.1
SEQUENCE:0
STATUS:CONFIRMED
SUMMARY:Council 2026 Apr 23 Collabera Virtual Council
TRANSP:OPAQUE
END:VEVENT
END:VCALENDAR
