BEGIN:VCALENDAR
PRODID:-//CVision, Intl/Event//EN
VERSION:2.0
METHOD:PUBLISH
BEGIN:VEVENT
DTSTART:20251119T180000Z
DTEND:20251119T213000Z
DTSTAMP:20260420T183703Z
UID:1b4f0906-3076-4853-a040-585159aee45b
CREATED:20260420T183703Z
X-ALT-DESC;FMTTYPE=text/html:<h2 style="margin-bottom:0;">Dinner 2025 Nov 19 Stripe London Dinner</h2><h3>November 19, 2025</h3><p></p><p>If you have not yet requested an invitation to this event, please do so <a href="https://www.cvisionintl.com/events/dinner/2025-nov-19-stripe-london-dinner/" style="font-weight:bold;">here</a> or email us at <a href="mailto:info@cvisionintl.com">info@cvisionintl.com</a>.</p><p>See more upcoming events on our <a href="https://www.cvisionintl.com/events/">events page</a></p><p>C-Vision Team<br />“Your Vision Is Our Mission”</p>
DESCRIPTION:Dinner 2025 Nov 19 Stripe London DinnerNovember 19, 2025If you have not yet requested an invitation to this event, please do so here (https://www.cvisionintl.com/events/dinner/2025-nov-19-stripe-london-dinner/) or email us at info@cvisionintl.com (mailto:info@cvisionintl.com).See more upcoming events on our events page (https://www.cvisionintl.com/events/)C-Vision Team“Your Vision Is Our Mission”
LAST-MODIFIED:20260420T183703Z
LOCATION:Mosimann's -
SEQUENCE:0
STATUS:CONFIRMED
SUMMARY:Dinner 2025 Nov 19 Stripe London Dinner
TRANSP:OPAQUE
END:VEVENT
END:VCALENDAR
