BEGIN:VCALENDAR
PRODID:-//CVision, Intl/Event//EN
VERSION:2.0
METHOD:PUBLISH
BEGIN:VEVENT
DTSTART:20251203T170000Z
DTEND:20251203T203000Z
DTSTAMP:20260421T012708Z
UID:95a7d365-a6b6-4b0c-98da-8223efadfb86
CREATED:20260421T012708Z
X-ALT-DESC;FMTTYPE=text/html:<h2 style="margin-bottom:0;">Dinner 2025 Dec 3 CyberArk AWS Dinner Milan</h2><h3>December 3, 2025</h3><p></p><p>If you have not yet requested an invitation to this event, please do so <a href="https://www.cvisionintl.com/events/dinner/2025-dec-3-cyberark-aws-dinner-milan/" style="font-weight:bold;">here</a> or email us at <a href="mailto:info@cvisionintl.com">info@cvisionintl.com</a>.</p><p>See more upcoming events on our <a href="https://www.cvisionintl.com/events/">events page</a></p><p>C-Vision Team<br />“Your Vision Is Our Mission”</p>
DESCRIPTION:Dinner 2025 Dec 3 CyberArk AWS Dinner MilanDecember 3, 2025If you have not yet requested an invitation to this event, please do so here (https://www.cvisionintl.com/events/dinner/2025-dec-3-cyberark-aws-dinner-milan/) or email us at info@cvisionintl.com (mailto:info@cvisionintl.com).See more upcoming events on our events page (https://www.cvisionintl.com/events/)C-Vision Team“Your Vision Is Our Mission”
LAST-MODIFIED:20260421T012708Z
LOCATION:Grand Hotel et de Milan -
SEQUENCE:0
STATUS:CONFIRMED
SUMMARY:Dinner 2025 Dec 3 CyberArk AWS Dinner Milan
TRANSP:OPAQUE
END:VEVENT
END:VCALENDAR
