BEGIN:VCALENDAR
PRODID:-//CVision, Intl/Event//EN
VERSION:2.0
METHOD:PUBLISH
BEGIN:VEVENT
DTSTART:20210223T110000Z
DTEND:20210223T121500Z
DTSTAMP:20260420T205533Z
UID:d89de4ba-c459-4611-ad5d-a6e23c0975ca
CREATED:20260420T205533Z
X-ALT-DESC;FMTTYPE=text/html:<h2 style="margin-bottom:0;">CISO Council Cybersixgill 2/23/2021</h2><h3>February 23, 2021</h3><p><p>CISOs know that time does not stand still and need to exhibit adaptability and resilience, especially during times of disruption. Being forced to make extremely fast decisions with high levels of uncertainty requires the latest knowledge within the industry’s latest technologies. The CISO Vision Council is a virtual gathering for CISOs to connect with peers and discuss challenges and solutions that will help their organizations to stay ahead of technology innovations, regulations and an ever-changing risk landscape.</p></p><p>If you have not yet requested an invitation to this event, please do so <a href="https://www.cvisionintl.com/events/ciso-council/cybersixgill-2232021/" style="font-weight:bold;">here</a> or email us at <a href="mailto:info@cvisionintl.com">info@cvisionintl.com</a>.</p><p>If you are already confirmed to attend, you can view meeting materials <a href="https://www.cvisionintl.com/events/ciso-council/cybersixgill-2232021/participant-materials/" style="font-weight:bold;">here</a>.</p><p>See more upcoming events on our <a href="https://www.cvisionintl.com/events/">events page</a></p><p>C-Vision Team<br />“Your Vision Is Our Mission”</p>
DESCRIPTION:CISO Council Cybersixgill 2/23/2021February 23, 2021CISOs know that time does not stand still and need to exhibit adaptability and resilience, especially during times of disruption. Being forced to make extremely fast decisions with high levels of uncertainty requires the latest knowledge within the industry’s latest technologies. The CISO Vision Council is a virtual gathering for CISOs to connect with peers and discuss challenges and solutions that will help their organizations to stay ahead of technology innovations, regulations and an ever-changing risk landscape.If you have not yet requested an invitation to this event, please do so here (https://www.cvisionintl.com/events/ciso-council/cybersixgill-2232021/) or email us at info@cvisionintl.com (mailto:info@cvisionintl.com).If you are already confirmed to attend, you can view meeting materials here (https://www.cvisionintl.com/events/ciso-council/cybersixgill-2232021/participant-materials/).See more upcoming events on our events page (https://www.cvisionintl.com/events/)C-Vision Team“Your Vision Is Our Mission”
LAST-MODIFIED:20260420T205533Z
LOCATION:
SEQUENCE:0
STATUS:CONFIRMED
SUMMARY:CISO Council Cybersixgill 2/23/2021
TRANSP:OPAQUE
END:VEVENT
END:VCALENDAR
